BEGIN:VCALENDAR
VERSION:2.0
PRODID:-//Brandenburger Freiheit - ECPv6.15.20//NONSGML v1.0//EN
CALSCALE:GREGORIAN
METHOD:PUBLISH
X-WR-CALNAME:Brandenburger Freiheit
X-ORIGINAL-URL:https://brandenburgerfreiheit.de
X-WR-CALDESC:Veranstaltungen für Brandenburger Freiheit
REFRESH-INTERVAL;VALUE=DURATION:PT1H
X-Robots-Tag:noindex
X-PUBLISHED-TTL:PT1H
BEGIN:VTIMEZONE
TZID:Europe/Paris
BEGIN:DAYLIGHT
TZOFFSETFROM:+0100
TZOFFSETTO:+0200
TZNAME:CEST
DTSTART:20240331T010000
END:DAYLIGHT
BEGIN:STANDARD
TZOFFSETFROM:+0200
TZOFFSETTO:+0100
TZNAME:CET
DTSTART:20241027T010000
END:STANDARD
BEGIN:DAYLIGHT
TZOFFSETFROM:+0100
TZOFFSETTO:+0200
TZNAME:CEST
DTSTART:20250330T010000
END:DAYLIGHT
BEGIN:STANDARD
TZOFFSETFROM:+0200
TZOFFSETTO:+0100
TZNAME:CET
DTSTART:20251026T010000
END:STANDARD
BEGIN:DAYLIGHT
TZOFFSETFROM:+0100
TZOFFSETTO:+0200
TZNAME:CEST
DTSTART:20260329T010000
END:DAYLIGHT
BEGIN:STANDARD
TZOFFSETFROM:+0200
TZOFFSETTO:+0100
TZNAME:CET
DTSTART:20261025T010000
END:STANDARD
END:VTIMEZONE
BEGIN:VEVENT
DTSTART;TZID=Europe/Paris:20250728T190000
DTEND;TZID=Europe/Paris:20250728T190000
DTSTAMP:20260424T152924
CREATED:20250717T082847Z
LAST-MODIFIED:20250717T082847Z
UID:2318-1753729200-1753729200@brandenburgerfreiheit.de
SUMMARY:Smartphones - Gefahren und Alternativen
DESCRIPTION:Smartphones – Gefahren und Alternativen\nVortrag und ausführliche Diskussion\nmit Fred Großkopf \n28. Juli 2025\, 19 Uhr \nEintritt frei (Spenden für den Referenten erbeten) \nAnmeldung bitte bis Samstag\, 26. Juli 2025\nan kontakt[at]werderstehtauf.de\nVeranstaltungsort wird mit der Anmeldebestätigung\nbekannt gegeben
URL:https://brandenburgerfreiheit.de/event/smartphones-gefahren-und-alternativen/
LOCATION:Werder
CATEGORIES:Gesundheit,Politik,Technik
ATTACH;FMTTYPE=image/png:https://brandenburgerfreiheit.de/wp-content/uploads/2025/07/VASmartphoneGefahren.png
ORGANIZER;CN="Werder-Steht-Auf":MAILTO:kontakt@werderstehtauf.de
END:VEVENT
END:VCALENDAR