BEGIN:VCALENDAR
VERSION:2.0
PRODID:-//Brandenburger Freiheit - ECPv6.15.20//NONSGML v1.0//EN
CALSCALE:GREGORIAN
METHOD:PUBLISH
X-WR-CALNAME:Brandenburger Freiheit
X-ORIGINAL-URL:https://brandenburgerfreiheit.de
X-WR-CALDESC:Veranstaltungen für Brandenburger Freiheit
REFRESH-INTERVAL;VALUE=DURATION:PT1H
X-Robots-Tag:noindex
X-PUBLISHED-TTL:PT1H
BEGIN:VTIMEZONE
TZID:Europe/Paris
BEGIN:DAYLIGHT
TZOFFSETFROM:+0100
TZOFFSETTO:+0200
TZNAME:CEST
DTSTART:20250330T010000
END:DAYLIGHT
BEGIN:STANDARD
TZOFFSETFROM:+0200
TZOFFSETTO:+0100
TZNAME:CET
DTSTART:20251026T010000
END:STANDARD
BEGIN:DAYLIGHT
TZOFFSETFROM:+0100
TZOFFSETTO:+0200
TZNAME:CEST
DTSTART:20260329T010000
END:DAYLIGHT
BEGIN:STANDARD
TZOFFSETFROM:+0200
TZOFFSETTO:+0100
TZNAME:CET
DTSTART:20261025T010000
END:STANDARD
BEGIN:DAYLIGHT
TZOFFSETFROM:+0100
TZOFFSETTO:+0200
TZNAME:CEST
DTSTART:20270328T010000
END:DAYLIGHT
BEGIN:STANDARD
TZOFFSETFROM:+0200
TZOFFSETTO:+0100
TZNAME:CET
DTSTART:20271031T010000
END:STANDARD
END:VTIMEZONE
BEGIN:VEVENT
DTSTART;TZID=Europe/Paris:20260108T190000
DTEND;TZID=Europe/Paris:20260108T190000
DTSTAMP:20260421T021429
CREATED:20251124T192827Z
LAST-MODIFIED:20251124T192827Z
UID:2534-1767898800-1767898800@brandenburgerfreiheit.de
SUMMARY:BF-live: BASISDEMOKRATIE - Chancen\, Risiken und Nebenwirkungen
DESCRIPTION:BF-live: BASISDEMOKRATIE – Chancen\, Risiken und Nebenwirkungen\nzu Gast: Sven Lingreen \, Ex-Bundesvorsitzender der Basisdemokratischen Partei Deutschland (dieBasis) \nÖffentlich geführtes Interview für die Brandenburger Freiheit\, in dessen 2. Teil natürlich auch das Publikum die Gelegenheit bekommt\, eigene Fragen zu stellen. \n08.01.26\, 19 Uhr\nMehrzweckraum der Stadthalle\nAm Rathaus 1\nHohen Neuendorf \nEintritt frei \nReservierungswünsche per E-Mail an veranstaltung[at]brandenburgerfreiheit.de
URL:https://brandenburgerfreiheit.de/event/bf-live-basisdemokratie-chancen-risiken-und-nebenwirkungen/
LOCATION:Stadthalle Hohen Neuendorf (Mehrzweckraum)\, Am Rathaus 1\, Hohen Neuendorf\, 16540
ATTACH;FMTTYPE=image/png:https://brandenburgerfreiheit.de/wp-content/uploads/2025/11/Digitalflyer.png
ORGANIZER;CN="Brandenburger Freiheit":MAILTO:veranstaltung@brandenburgerfreiheit.de
END:VEVENT
END:VCALENDAR