BEGIN:VCALENDAR
VERSION:2.0
PRODID:-//Brandenburger Freiheit - ECPv6.15.20//NONSGML v1.0//EN
CALSCALE:GREGORIAN
METHOD:PUBLISH
X-WR-CALNAME:Brandenburger Freiheit
X-ORIGINAL-URL:https://brandenburgerfreiheit.de
X-WR-CALDESC:Veranstaltungen für Brandenburger Freiheit
REFRESH-INTERVAL;VALUE=DURATION:PT1H
X-Robots-Tag:noindex
X-PUBLISHED-TTL:PT1H
BEGIN:VTIMEZONE
TZID:Europe/Paris
BEGIN:DAYLIGHT
TZOFFSETFROM:+0100
TZOFFSETTO:+0200
TZNAME:CEST
DTSTART:20250330T010000
END:DAYLIGHT
BEGIN:STANDARD
TZOFFSETFROM:+0200
TZOFFSETTO:+0100
TZNAME:CET
DTSTART:20251026T010000
END:STANDARD
BEGIN:DAYLIGHT
TZOFFSETFROM:+0100
TZOFFSETTO:+0200
TZNAME:CEST
DTSTART:20260329T010000
END:DAYLIGHT
BEGIN:STANDARD
TZOFFSETFROM:+0200
TZOFFSETTO:+0100
TZNAME:CET
DTSTART:20261025T010000
END:STANDARD
BEGIN:DAYLIGHT
TZOFFSETFROM:+0100
TZOFFSETTO:+0200
TZNAME:CEST
DTSTART:20270328T010000
END:DAYLIGHT
BEGIN:STANDARD
TZOFFSETFROM:+0200
TZOFFSETTO:+0100
TZNAME:CET
DTSTART:20271031T010000
END:STANDARD
END:VTIMEZONE
BEGIN:VEVENT
DTSTART;TZID=Europe/Paris:20260402T190000
DTEND;TZID=Europe/Paris:20260402T190000
DTSTAMP:20260420T193024
CREATED:20260323T180905Z
LAST-MODIFIED:20260323T181352Z
UID:2683-1775156400-1775156400@brandenburgerfreiheit.de
SUMMARY:Thomas Moser: Der missbrauchte Rechtsstaat - Wie die Politik regierungskritische Bürger vor Gericht zerrt
DESCRIPTION:Der missbrauchte Rechtsstaat\nWie die Politik regierungskritische Bürger vor Gericht zerrt \nThomas Moser \n… ist freier Journalist und Politologe. Er arbeitet für verschiedene Internet-Magazine\, u.a. Overton\, und tritt als langjähriger ARD-Mitarbeiter für eine Erneuerung und Demokratisierung des Öffentlich- Rechtlichen Rundfunks ein. Er schrieb viele Artikel über die Corona-Zeit und beobachtete den Prozess gegen Michael Ballweg in Stuttgart. In der Vergangenheit brachte er mehrere Bücher zum NSU-Skandal sowie zum Anschlag vom Berliner Breitscheidplatz heraus. \nDer Prozess um den Querdenken-Gründer Michael Ballweg war für Thomas Moser Ausgangspunkt für sein Buch. Der Prozess hatte politische Hintergründe und steht exemplarisch für eine Unzahl von Strafverfahren gegen Menschen\, die in der Corona-Zeit  auf den Straßen waren\, die öffentlich der Corona-Politik widersprachen\, keine Maske trugen oder sich nicht impfen ließen. Während auf der einen Seite die Aufarbeitung von Corona vorgeschlagen wird\, finden auf der anderen Seite immer noch Sanktionen nach den alten Corona-Regeln statt. \nEintritt frei\nSpenden zur Honorierung des Referenten und Aufwandsentschädigung erbeten \nAnmeldung bis Dienstag\, 31. März 2026 an kontakt[at]werderstehtauf.de . Sie erhalten dann eine Anmeldebestätigung. \nVeranstalter: Werder-steht-auf\, weitere Infos hier.
URL:https://brandenburgerfreiheit.de/event/thomas-moser-der-missbrauchte-rechtsstaat-wie-die-politik-regierungskritische-buerger-vor-gericht-zerrt/
LOCATION:Hotel zur Insel\, Werder\, Am Markt 6\, Werder (Havel)\, 14542
CATEGORIES:Politik
ATTACH;FMTTYPE=image/png:https://brandenburgerfreiheit.de/wp-content/uploads/2026/03/DerMissbrauchteRechtsstaat.png
ORGANIZER;CN="Werder-Steht-Auf":MAILTO:kontakt@werderstehtauf.de
END:VEVENT
END:VCALENDAR