BEGIN:VCALENDAR
VERSION:2.0
PRODID:-//Brandenburger Freiheit - ECPv6.15.20//NONSGML v1.0//EN
CALSCALE:GREGORIAN
METHOD:PUBLISH
X-ORIGINAL-URL:https://brandenburgerfreiheit.de
X-WR-CALDESC:Veranstaltungen für Brandenburger Freiheit
REFRESH-INTERVAL;VALUE=DURATION:PT1H
X-Robots-Tag:noindex
X-PUBLISHED-TTL:PT1H
BEGIN:VTIMEZONE
TZID:Europe/Paris
BEGIN:DAYLIGHT
TZOFFSETFROM:+0100
TZOFFSETTO:+0200
TZNAME:CEST
DTSTART:20240331T010000
END:DAYLIGHT
BEGIN:STANDARD
TZOFFSETFROM:+0200
TZOFFSETTO:+0100
TZNAME:CET
DTSTART:20241027T010000
END:STANDARD
BEGIN:DAYLIGHT
TZOFFSETFROM:+0100
TZOFFSETTO:+0200
TZNAME:CEST
DTSTART:20250330T010000
END:DAYLIGHT
BEGIN:STANDARD
TZOFFSETFROM:+0200
TZOFFSETTO:+0100
TZNAME:CET
DTSTART:20251026T010000
END:STANDARD
BEGIN:DAYLIGHT
TZOFFSETFROM:+0100
TZOFFSETTO:+0200
TZNAME:CEST
DTSTART:20260329T010000
END:DAYLIGHT
BEGIN:STANDARD
TZOFFSETFROM:+0200
TZOFFSETTO:+0100
TZNAME:CET
DTSTART:20261025T010000
END:STANDARD
END:VTIMEZONE
BEGIN:VEVENT
DTSTART;TZID=Europe/Paris:20250816T180000
DTEND;TZID=Europe/Paris:20250816T180000
DTSTAMP:20260424T141549
CREATED:20250717T092949Z
LAST-MODIFIED:20250717T092949Z
UID:2328-1755367200-1755367200@brandenburgerfreiheit.de
SUMMARY:Kayvan Soufi-Siavash - Der Wortschatz der Menschheitsfamilie
DESCRIPTION:Kayvan Soufi-Siavash – Der Wortschatz der Menschheitsfamilie\nVom Denken zum Sein – Eine philosophische Interaktion \nSamstag\, 16. August 2025\n18:00 Uhr bis 22:00 Uhr\, Einlass: 16:00 Uhr\nStadthalle Falkensee\nScharenbergstraße 15\n14612 Falkensee \nTicketpreis: 31\,40 Euro \nVeranstalter: Partei dieBasis Kreisverband Havelland\ndieBasis – Zu Gast bei Freunden \nKurze Rede von Rechtsanwalt Ralf Ludwig\,\nAusstellung Krieg&Kinder\nund Vortrag von Kayvan Soufi-Siavash \nDer Wortschatz der Menschheitsfamilie – Jetzt bist Du dran! \nEin interaktives Gemeinschaftserlebnis\, bei dem das Publikum im Mittelpunkt steht: gemeint bist DU! Raus aus der Masse\, rauf auf die Bühne! Sprich mit Kayvan über das\, was dich bewegt\, besorgt\, begeistert. Dir fehlt der Mut? Falsch! Dir fehlt die Übung. \nAusgewählte Zitate der Menschheitsfamilie bilden den Rahmen für diesen Abend. Bringst Du ein Zitat mit und wird es gezogen\, sehen wir uns auf der Bühne! \n1\,50 Euro des Eintrittspreises gehen an ein gemeinnütziges Projekt in Falkensee. \nEinlass zur Ausstellung ist 16:00 Uhr\, Einlass in den Veranstaltungssaal ist 17:00 Uhr. \nAusstellung Krieg&Kinder – Menschenkinder überleben nur im Frieden.\nWeil es so schön war\, gleich nochmal\, Deutschland?\nMit derartigen Fragen wendet sich die Ausstellung ″Kriegskinder″ an die Betrachter und möchte auf an Deutschland wieder immer näher kommende Kriege und ihre grausame Auswirkung auf Kinder aufmerksam machen.
URL:https://brandenburgerfreiheit.de/event/kayvan-soufi-siavash-der-wortschatz-der-menschheitsfamilie/
LOCATION:Stadthalle Falkensee\, Scharenbergstraße 15\, Falkensee\, 14612
ATTACH;FMTTYPE=image/png:https://brandenburgerfreiheit.de/wp-content/uploads/2025/07/KSSiavash_250816.png
ORGANIZER;CN="dieBasis KV Havelland":MAILTO:info-hvl@diebasis-bb.de
END:VEVENT
BEGIN:VEVENT
DTSTART;TZID=Europe/Paris:20250818T190000
DTEND;TZID=Europe/Paris:20250818T190000
DTSTAMP:20260424T141549
CREATED:20250808T165230Z
LAST-MODIFIED:20250808T165230Z
UID:2354-1755543600-1755543600@brandenburgerfreiheit.de
SUMMARY:Als die „Propaganda“ zur „Public Relations“ wurde
DESCRIPTION:Montag\, 18. August 2025\, 19 Uhr\nDauer einschl. Pause und Diskussion ca 2 Stunden \n„Here comes the Master\, of Sensation!“ \nAls die „Propaganda“ zur „Public Relations“ wurde\nEdward Bernays\, Stammvater der PR-Industrie \neine szenische Lesung\nder ERISISCHEN KONTROLLGRUPPE\nüber die Folgen seiner Wirkweise \nVeranstaltungsort ist ein großes Zelt in einem privaten Garten in Werder. Die Adresse erfahren Sie mit der Anmeldebestätigung. Alkoholfreie Getränke vorhanden. \nEintritt frei\, Spenden zur Honorierung der Künstler erbeten \nAnmeldung bitte bis Samstag\, 16. August 2025 an kontakt@werderstehtauf.de \nWeitere Infos unter: https://www.werderstehtauf.de/veranstaltungen
URL:https://brandenburgerfreiheit.de/event/als-die-propaganda-zur-public-relations-wurde/
CATEGORIES:Kultur,Lesung
ATTACH;FMTTYPE=image/png:https://brandenburgerfreiheit.de/wp-content/uploads/2025/08/Bernays.png
ORGANIZER;CN="Werder-Steht-Auf":MAILTO:kontakt@werderstehtauf.de
END:VEVENT
BEGIN:VEVENT
DTSTART;TZID=Europe/Paris:20250825T193000
DTEND;TZID=Europe/Paris:20250825T193000
DTSTAMP:20260424T141549
CREATED:20250809T051127Z
LAST-MODIFIED:20250809T051127Z
UID:2363-1756150200-1756150200@brandenburgerfreiheit.de
SUMMARY:Dr. med. Ute Krüger: Coronaimpfung aus Sicht einer Pathologin
DESCRIPTION:Coronaimpfung aus Sicht einer Pathologin\nVortrag von Dr. med. Ute Krüger \nMusikbrauerei\, Greifswalderstr. 23a\, 10407 Berlin\n25.08.2025 – 19:30\nEinlass ab 18:30 Uhr bis 19:30 Uhr \nTickets: 24\,80€\nhttps://www.eventim-light.com/de/a/5beda5fa39ad6b000165804b/e/6807ad27c09153707b692527 \n\nDr. med. Ute Krüger ist Fachärztin für Pathologie mit 25-jähriger Berufserfahrung. Seit 20 Jahren lebt sie in Schweden. Im Herbst 2021 bemerkte sie Veränderungen bei Tumoren in ihren täglichen klinischen Untersuchungen\, die im Zusammenhang mit den Corona-Impfungen zu stehen schienen. Sie nannte diese Tumoren „Turbokrebs“. Ihr Versuch die Öffentlichkeit für dieses Thema zu interessieren scheiterte. Im Herbst 2023 kündigte sie ihre Oberarztstellen im Klinikum Kalmar und im Universitätsklinikum Lund. Sie konnte nicht weiter guten Gewissens als Pathologin in einem System arbeiten\, in dem die Gesundheit der Patienten nicht im Mittelpunkt steht. Nach einigen Jahren der Weiterbildung arbeitet sie nun in eigener ganzheitlicher Praxis\, mit dem Fokus auf der Prävention von Krankheiten (www.active-health.se). Frau Krüger hat geholfen\, die von den Pathologen Prof. Burkhardt und Prof. Lang erhobenen neuartigen Befunde nach den Corona-Impfungen als Buch zu veröffentlichen (www.histo-atlas.com). \nNach dem einstündigen Vortrag gibt es die Möglichkeit Fragen zu stellen und auch das Buch der Coronaimpfschäden zu erwerben. \nBild: Ute Krüger
URL:https://brandenburgerfreiheit.de/event/dr-med-ute-krueger-coronaimpfung-aus-sicht-einer-pathologin/
LOCATION:Musikbauerei\, Greifswalder Straße 23A\, Berlin\, 10405
CATEGORIES:Gesundheit,Vortrag
ATTACH;FMTTYPE=image/jpeg:https://brandenburgerfreiheit.de/wp-content/uploads/2025/08/UteKrueger.jpg
END:VEVENT
END:VCALENDAR