BEGIN:VCALENDAR
VERSION:2.0
PRODID:-//Brandenburger Freiheit - ECPv6.15.20//NONSGML v1.0//EN
CALSCALE:GREGORIAN
METHOD:PUBLISH
X-ORIGINAL-URL:https://brandenburgerfreiheit.de
X-WR-CALDESC:Veranstaltungen für Brandenburger Freiheit
REFRESH-INTERVAL;VALUE=DURATION:PT1H
X-Robots-Tag:noindex
X-PUBLISHED-TTL:PT1H
BEGIN:VTIMEZONE
TZID:Europe/Paris
BEGIN:DAYLIGHT
TZOFFSETFROM:+0100
TZOFFSETTO:+0200
TZNAME:CEST
DTSTART:20240331T010000
END:DAYLIGHT
BEGIN:STANDARD
TZOFFSETFROM:+0200
TZOFFSETTO:+0100
TZNAME:CET
DTSTART:20241027T010000
END:STANDARD
BEGIN:DAYLIGHT
TZOFFSETFROM:+0100
TZOFFSETTO:+0200
TZNAME:CEST
DTSTART:20250330T010000
END:DAYLIGHT
BEGIN:STANDARD
TZOFFSETFROM:+0200
TZOFFSETTO:+0100
TZNAME:CET
DTSTART:20251026T010000
END:STANDARD
BEGIN:DAYLIGHT
TZOFFSETFROM:+0100
TZOFFSETTO:+0200
TZNAME:CEST
DTSTART:20260329T010000
END:DAYLIGHT
BEGIN:STANDARD
TZOFFSETFROM:+0200
TZOFFSETTO:+0100
TZNAME:CET
DTSTART:20261025T010000
END:STANDARD
END:VTIMEZONE
BEGIN:VEVENT
DTSTART;TZID=Europe/Paris:20251010T193000
DTEND;TZID=Europe/Paris:20251010T193000
DTSTAMP:20260424T113837
CREATED:20250717T094245Z
LAST-MODIFIED:20250717T095007Z
UID:2336-1760124600-1760124600@brandenburgerfreiheit.de
SUMMARY:Krieg und Frieden: Podiumsdiskussion
DESCRIPTION:Krieg und Frieden: Podiumsdiskussion\nDer Kulturkreis Pankow e.V. lädt zu einer Podiumsdiskussion ins BABYLON ein: \nDer Verleger der Berliner Zeitung Holger Friedrich\, der Vizeadmiral a. D. der Deutschen Marine der Bundeswehr Kay-Achim Schönbach\, Michael von der Schulenburg und Martin Sonneborn\, beide Mitglieder des Europäischen Parlaments\, diskutieren aktuelle Fragen zu den großen politischen Entwicklungen der heutigen Zeit. Florian Warweg\, Mitglied der Bundespressekonferenz\, wird die Podiumsdiskussion moderieren. \nDie Entwicklungen in der Ukraine sowie im Nahen und Mittleren Osten\, die Neuausrichtung der amerikanisch-russischen Beziehungen\, die Positionierung von Europa und insbesondere von Deutschland in der internationalen Geopolitik stehen dabei besonders im Fokus. \nWie sind die aktuellen Entwicklungen einzuordnen und was kann oder muss man für die Zukunft erwarten? Welche Rolle spielt Deutschland und welche Handlungsoptionen ergeben sich? \nIm Anschluss ist das Publikum eingeladen\, sich an der Diskussion zu beteiligen. \n10.10.2025\, 19.30 Uhr\nBabylon\nRosa-Luxemburg-Straße 30\n10178 Berlin \nTickets: hier
URL:https://brandenburgerfreiheit.de/event/krieg-und-frieden-podiumsdiskussion/
LOCATION:Babylon\, Rosa-Luxemburg-Str. 30\, Berlin\, 10178
ATTACH;FMTTYPE=image/jpeg:https://brandenburgerfreiheit.de/wp-content/uploads/2025/07/VA_KKP_KriegUndFrieden_251010.jpg
ORGANIZER;CN="Kulturkreis Pankow":MAILTO:vorstand@kulturkreis-pankow.de
END:VEVENT
BEGIN:VEVENT
DTSTART;TZID=Europe/Paris:20251011T190000
DTEND;TZID=Europe/Paris:20251011T190000
DTSTAMP:20260424T113837
CREATED:20250909T203719Z
LAST-MODIFIED:20250926T212750Z
UID:2418-1760209200-1760209200@brandenburgerfreiheit.de
SUMMARY:Lisa Marie Binder: Der Super-Faschismus oder Das Buch der Vergebung (Autorenlesung)
DESCRIPTION:„Faschismus beginnt und endet im Kopf. Wenn es en vogue wird\, nur mehr in einem Erzählstrang zu denken\, sprechen und handeln zu dürfen\, wie bei einem ‚fascio‘ eben\, einsträngig\, kann es im Außen\, in der phänotypischen Ausgestaltung\, immer noch schlimmer kommen. Aber das Bett ist bereitet. Der Faschismus komplett. Er existiert.“ \nLisa Marie Binder \nVielen Menschen erschienen die vom Staat verhängten Corona-Maßnahmen als autoritär und übergriffig. Begriffe wie „Totalitarismus“ oder „Faschismus“ machten im Kontext der Corona-Politik schnell die Runde. Lisa Marie Binder ging in dieser Situation der alten Faschismus-Definition nach und kam zu dem Schluss\, dass diese nie passend war. Als Konsequenz führt Binder in ihrem Buch eine neue Begriffsdefinition ein. Vorausgegangen ist eine fachliche Analyse\, deren Ergebnisse Binder in dem Buch „Der Rechtsbefund“ [2] darlegte. Binder studierte Rechtswissenschaften in München und Padua. Weitere Angaben zum Inhalt\, zum Medienecho sowie zur Autorin finden Sie in der u.a. Quelle [1]. \nOrganisiert wird die Veranstaltung von der Bürgerinitiative Brandenburger Freiheit (www.brandenburgerfreiheit.de). \nDie Veranstaltung ist öffentlich. Der Eintritt ist frei. \nReservierungswünsche bitte per E-Mail an veranstaltung[at]brandenburgerfreiheit.de \n[1] https://www.masselverlag.de/Programm/Der-Super-Faschismus/\n[2] https://www.masselverlag.de/Programm/Der-Rechts-Befund/
URL:https://brandenburgerfreiheit.de/event/lisa-marie-binder-der-super-faschismus-oder-das-buch-der-vergebung-autorenlesung/
LOCATION:Regine-Hildebrandt-Haus\, Sachsenhausener Str. 1\, Oranienburg\, 16515
CATEGORIES:Lesung,Politik
ATTACH;FMTTYPE=image/jpeg:https://brandenburgerfreiheit.de/wp-content/uploads/2025/09/DigitalflyerLMBinderA6QuerS1.jpg
ORGANIZER;CN="Brandenburger Freiheit":MAILTO:veranstaltung@brandenburgerfreiheit.de
END:VEVENT
BEGIN:VEVENT
DTSTART;TZID=Europe/Paris:20251012T110000
DTEND;TZID=Europe/Paris:20251012T170000
DTSTAMP:20260424T113837
CREATED:20250910T192557Z
LAST-MODIFIED:20250926T212759Z
UID:2425-1760266800-1760288400@brandenburgerfreiheit.de
SUMMARY:6. Brandenburger Bürgerrechtskonferenz
DESCRIPTION:6. Brandenburger Bürgerrechtskonferenz \nUnter dem Motto „Zuhören\, Mitreden\, Vernetzen“ treffen sich die Akteure der Brandenburger Demokratie und Friedensbewegung nun schon zum 6. Mal. Auch die Herbstauflage der Konferenz bietet ein attraktives Programm – gestaltet von und für die Teilnehmer. Keine Unterhaltungsshow. \nPremiere: Die Veranstaltung ist dieses Mal öffentlich. Die Organisatoren bitten um Anmeldung unter BrBK[at]web.de \n12. Oktober 2025 | 11.00 – 17.00 Uhr\nBürgerbildungszentrum Amadeu Antonio\nPuschkinstraße 13 | 16225 Eberswalde \nHier geht’s zum Programm.
URL:https://brandenburgerfreiheit.de/event/6-brandenburger-buergerrechtskonferenz/
LOCATION:Bürgerbildungszentrum Amadeu Antonio\, Puschkinstraße 13\, Eberswalde\, 16225
CATEGORIES:Politik,Vortrag
ATTACH;FMTTYPE=image/jpeg:https://brandenburgerfreiheit.de/wp-content/uploads/2025/09/DigitalflyerBBK06.jpg
END:VEVENT
BEGIN:VEVENT
DTSTART;TZID=Europe/Paris:20251013T183000
DTEND;TZID=Europe/Paris:20251013T183000
DTSTAMP:20260424T113837
CREATED:20251006T192209Z
LAST-MODIFIED:20251006T192209Z
UID:2469-1760380200-1760380200@brandenburgerfreiheit.de
SUMMARY:Vorbereitung der Bevölkerung auf den Kriegsfall? - Vortrag und Diskussion
DESCRIPTION:Vorbereitung der Bevölkerung auf den Kriegsfall?\nVortrag und Diskussion\nVorbereitung der Bevölkerung auf den Kriegsfall? \n13. Oktober\, 18.30 Uhr\, Rathaus Panketal \nDaniel Lücking\, Referent für Zivil- und Katastrophenschutz im Bundestag\nWas steht im GRÜNBUCH ZMZ 4.0?\nEintritt frei
URL:https://brandenburgerfreiheit.de/event/vorbereitung-der-bevoelkerung-auf-den-kriegsfall-vortrag-und-diskussion/
LOCATION:Rathaus Panketal\, Schönower Str. 105\, Panketal\, 16341
END:VEVENT
BEGIN:VEVENT
DTSTART;TZID=Europe/Paris:20251017T193000
DTEND;TZID=Europe/Paris:20251017T193000
DTSTAMP:20260424T113837
CREATED:20250828T173010Z
LAST-MODIFIED:20250828T182429Z
UID:2394-1760729400-1760729400@brandenburgerfreiheit.de
SUMMARY:CORONA POESIE
DESCRIPTION:CORONA POESIE\nDie Jahre der Coronamaßnahmen sind Geschichte – prägende Erinnerungen bleiben.\nViele Poeten & Liedermacher haben in dieser Zeit ihre Gedanken in eine besondere Form „gegossen“: Gedichte & Songs sind entstanden\, die ich in meinem neuen Buch\n💕CORONA POESIE 💕\nfestgehalten habe. Nun darf ich einige Künstler davon auf die Bühne bitten: u. a. \nYann Song King\nSabine Winterfeldt\nBoris Steinberg\nBrauneis&Schwarzlose\nBritta Werthmann! \nDas einmalige und einzigartige Event wird unter der Maxime moderiert: Mit Humor geht es einfach besser! \nLasst Euch auf eine wundersame Zeitreise mitnehmen –\nauf einen lyrischer Streifzug mit musikalischen Highlights 🎶 – fast wie ein „Kessel Buntes“! \nDer Eintritt erfolgt auf Spendenbasis! \n👉 Termin\n17. Oktober 2025/\nEinlass ab 18.30 Uhr/\nStart gegen 19.30 Uhr\n👉 Örtlichkeit\nBerlin/Wilmersdorf \nIch bitte um Anmeldung\, da nur ein begrenztes Platzangebot vorhanden ist:\nlektorat[at]dr-gerburg-weiss.de \nHerzliche Grüße\nGerburg Weiß
URL:https://brandenburgerfreiheit.de/event/corona-poesie/
LOCATION:Gerburg Weiß\, Berlin-Wilmersdorf
CATEGORIES:Humor,Kultur,Musik
ATTACH;FMTTYPE=image/png:https://brandenburgerfreiheit.de/wp-content/uploads/2025/08/CoronaPoesie.png
END:VEVENT
END:VCALENDAR