BEGIN:VCALENDAR
VERSION:2.0
PRODID:-//Brandenburger Freiheit - ECPv6.15.20//NONSGML v1.0//EN
CALSCALE:GREGORIAN
METHOD:PUBLISH
X-ORIGINAL-URL:https://brandenburgerfreiheit.de
X-WR-CALDESC:Veranstaltungen für Brandenburger Freiheit
REFRESH-INTERVAL;VALUE=DURATION:PT1H
X-Robots-Tag:noindex
X-PUBLISHED-TTL:PT1H
BEGIN:VTIMEZONE
TZID:Europe/Paris
BEGIN:DAYLIGHT
TZOFFSETFROM:+0100
TZOFFSETTO:+0200
TZNAME:CEST
DTSTART:20240331T010000
END:DAYLIGHT
BEGIN:STANDARD
TZOFFSETFROM:+0200
TZOFFSETTO:+0100
TZNAME:CET
DTSTART:20241027T010000
END:STANDARD
BEGIN:DAYLIGHT
TZOFFSETFROM:+0100
TZOFFSETTO:+0200
TZNAME:CEST
DTSTART:20250330T010000
END:DAYLIGHT
BEGIN:STANDARD
TZOFFSETFROM:+0200
TZOFFSETTO:+0100
TZNAME:CET
DTSTART:20251026T010000
END:STANDARD
BEGIN:DAYLIGHT
TZOFFSETFROM:+0100
TZOFFSETTO:+0200
TZNAME:CEST
DTSTART:20260329T010000
END:DAYLIGHT
BEGIN:STANDARD
TZOFFSETFROM:+0200
TZOFFSETTO:+0100
TZNAME:CET
DTSTART:20261025T010000
END:STANDARD
END:VTIMEZONE
BEGIN:VEVENT
DTSTART;TZID=Europe/Paris:20251107T190000
DTEND;TZID=Europe/Paris:20251107T190000
DTSTAMP:20260422T140216
CREATED:20250923T203737Z
LAST-MODIFIED:20250926T212553Z
UID:2450-1762542000-1762542000@brandenburgerfreiheit.de
SUMMARY:StandHaft - Filmvorführung und Publikumsgespräch mit Christiane Müller
DESCRIPTION:StandHaft\nEin Film von Christiane Müller – Filmvorführung und Publikumsgespräch \nDer Umgang der Bundeswehr mit kritischen Soldaten\, die sich nicht gegen Covid-19 impfen lassen wollten\, gehört zu den dunkelsten Episoden der Corona-Krise. Der Dokumentarfilm „StandHaft“ von Christiane Müller wirft ein Schlaglicht auf dieses Kapitel. In ihm kommen betroffene Soldaten ebenso zu Wort wie Rechtsanwälte\, Mediziner und Politiker. \nIm Anschluss an die Filmvorführung können die Gäste mit der Regisseurin Christiane Müller ins Gespräch kommen und Dr. Sabine Stebel\, die online zugeschaltet wird\, zu speziellen Themen befragen. Außerdem freuen wir uns\, dass einer der betroffenen Soldaten teilnehmen wird. \n07.11.2025\, 19 Uhr\nRegine-Hildebrandt-Haus | Sachsenhausener Str. 1 | 16515 Oranienburg\nReservierungswünsche an veranstaltung[at]brandenburgerfreiheit.de \nDer Eintritt ist frei. Um Spenden für die Regisseurin wird gebeten.
URL:https://brandenburgerfreiheit.de/event/standhaft-filmvorfuehrung-und-publikumsgespraech-mit-christiane-mueller/
LOCATION:Regine-Hildebrandt-Haus\, Sachsenhausener Str. 1\, Oranienburg\, 16515
CATEGORIES:Filmvorführung,Podiumsdiskussion
ATTACH;FMTTYPE=image/jpeg:https://brandenburgerfreiheit.de/wp-content/uploads/2025/09/DigitalflyerStandHaftA6QuerS1.jpg
ORGANIZER;CN="Brandenburger Freiheit":MAILTO:veranstaltung@brandenburgerfreiheit.de
END:VEVENT
BEGIN:VEVENT
DTSTART;TZID=Europe/Paris:20251113T193000
DTEND;TZID=Europe/Paris:20251113T193000
DTSTAMP:20260422T140216
CREATED:20251103T171114Z
LAST-MODIFIED:20251103T171430Z
UID:2508-1763062200-1763062200@brandenburgerfreiheit.de
SUMMARY:„Angstpolitik“ - Volker Böhme-Neßler & Saskia Ludwig
DESCRIPTION:„Angstpolitik“ – Staatsdiener oder Befehlshaber? Es geht um die Glaubwürdigkeit der politischen Institutionen!\nAm 13.11.2025 stellt Rechtswissenschaftler Volker Boehme-Neßler sein wichtiges Buch „Angstpolitik“ im Babylon Berlin vor. Im Rahmen der Veranstaltung wird die Journalistin Camilla Hildebrandt mit ihm und der CDU-Abgeordentern Saskia Ludwig darüber diskutieren.\n\n\n13. November 2025\, 19:30 Uhr\nBabylon Berlin\nRosa-Luxemburg-Strasse 30\n10178 Berlin\nVeranstalter ist Connections.news\n\n\nTickets: https://connections.news/event-angstpolitik/\n\n\n„Angstpolitik“ ist eine Streitschrift für eine schonungslose umfassende Aufarbeitung der Coronazeit und ein Ausblick auf die aktuelle Politik. Angstpolitik als Herrschaftsmittel. Gleichzeitig ist Boehme-Neßlers Buch ein Plädoyer für eine Versöhnung der Gesellschaft.\n\n\nVolker Boehme-Neßler\, ein angesehener Verfassungsrechtler\, zeigt\, wie Angst zur politischen Waffe wird. Er macht deutlich\, dass sämtliche Institutionen – vom Parlament über den Bundespräsidenten bis hin zum Verfassungsgericht – versagt haben.\nUnd wie erlebt die CDU-Abgeordnete Saskia Ludwig die aktuelle politische Situation?\n\n„Deutschland ist ein Verfassungsstaat. Er darf nicht alles tun\, was in seiner Macht ist. Deshalb stellt sich die Frage: Durfte der deutsche Staat in der Coronazeit lügen?“\nVolker Boehme-Neßler
URL:https://brandenburgerfreiheit.de/event/angstpolitik-volker-boehme-nessler-saskia-ludwig/
LOCATION:Babylon\, Rosa-Luxemburg-Str. 30\, Berlin\, 10178
CATEGORIES:Lesung,Podiumsdiskussion
ATTACH;FMTTYPE=image/png:https://brandenburgerfreiheit.de/wp-content/uploads/2025/11/CN_Event-BN_Flyer2_850x850-1.png
END:VEVENT
BEGIN:VEVENT
DTSTART;TZID=Europe/Paris:20251121T190000
DTEND;TZID=Europe/Paris:20251121T190000
DTSTAMP:20260422T140216
CREATED:20250923T205206Z
LAST-MODIFIED:20250926T212515Z
UID:2453-1763751600-1763751600@brandenburgerfreiheit.de
SUMMARY:Heidi Müller: "Ich bin Marcella" (Autorenlesung)
DESCRIPTION:Heidi Müller: „Ich bin Marcella“ (Autorenlesung)\n„Ich bin Marcella“ handelt vom sexuellen Missbrauch von Kindern. Aus der ursprünglichen Idee\, ein therapeutisches Buch für Betroffene zu verfassen ist ein Buch für Erwachsene geworden\, das helfen soll\, die kindliche Sichtweise zu verstehen\, ohne Abartigkeiten und Grausamkeiten zu verbalisieren. Es be-schreibt die kindliche Sichtweise in der realen Welt und in der Phantasiewelt.\n„Ich bin Marcella“ ist ein erzählender Roman mit therapeutischem Charakter\, der betroffenen Kindern und Fachkräften hilft\, die emotionalen Prozesse besser zu verstehen.\nDie Autorin Heidi Müller ist Diplom-Psychologin und Kinder- und Jugendthera-peutin. Bei der Lesung wird sie von den Künstlern Sabine Winterfeldt und Stephan Noel Lang unterstützt. \n21.11.2025\, 19 Uhr\nStadthalle Hohen Neuendorf\nAm Rathaus 1\n16540 Hohen Neuendorf \nEintritt frei. Um Spenden für die Autorin wird gebeten. \nReservierungswünsche an veranstaltung[at]brandenburgerfreiheit.de
URL:https://brandenburgerfreiheit.de/event/heidi-mueller-ich-bin-marcella-autorenlesung/
LOCATION:Stadthalle Hohen Neuendorf (Mehrzweckraum)\, Am Rathaus 1\, Hohen Neuendorf\, 16540
CATEGORIES:Lesung
ATTACH;FMTTYPE=image/jpeg:https://brandenburgerfreiheit.de/wp-content/uploads/2025/09/DigitalflyerHeidiMuellerA6QuerS1.jpg
ORGANIZER;CN="Brandenburger Freiheit":MAILTO:veranstaltung@brandenburgerfreiheit.de
END:VEVENT
BEGIN:VEVENT
DTSTART;TZID=Europe/Paris:20251123T170000
DTEND;TZID=Europe/Paris:20251123T170000
DTSTAMP:20260422T140216
CREATED:20251006T194549Z
LAST-MODIFIED:20251006T194549Z
UID:2473-1763917200-1763917200@brandenburgerfreiheit.de
SUMMARY:Gabriele Krone-Schmalz: Russland - und wie weiter?
DESCRIPTION:Russland – und wie weiter?\nVortrag und Diskussion mit Prof. Dr. Gabriele Krone-Schmalz \n23.11.2025\, 17 Uhr (Einlass ab 16 Uhr)\nStadthalle Bernau Am Steintor \n– Hören Sie eine faktenbasierte Analyse der bisherigen Entwicklung!\n– Wie konnte es so weit kommen?\n– Welche Perspektiven sind denkbar?\n– Stellen Sie Ihre Fragen!\n– Lassen Sie Ihre Bücher signieren! \n 
URL:https://brandenburgerfreiheit.de/event/gabriele-krone-schmalz-russland-und-wie-weiter/
LOCATION:Stadthalle Bernau\, Hussitenstraße 1\, Bernau\, 16321
CATEGORIES:Politik,Vortrag
ATTACH;FMTTYPE=image/webp:https://brandenburgerfreiheit.de/wp-content/uploads/2025/10/flyer-vortrag-krone-schm-standard.webp
END:VEVENT
END:VCALENDAR