BEGIN:VCALENDAR
VERSION:2.0
PRODID:-//Brandenburger Freiheit - ECPv6.15.20//NONSGML v1.0//EN
CALSCALE:GREGORIAN
METHOD:PUBLISH
X-ORIGINAL-URL:https://brandenburgerfreiheit.de
X-WR-CALDESC:Veranstaltungen für Brandenburger Freiheit
REFRESH-INTERVAL;VALUE=DURATION:PT1H
X-Robots-Tag:noindex
X-PUBLISHED-TTL:PT1H
BEGIN:VTIMEZONE
TZID:Europe/Paris
BEGIN:DAYLIGHT
TZOFFSETFROM:+0100
TZOFFSETTO:+0200
TZNAME:CEST
DTSTART:20250330T010000
END:DAYLIGHT
BEGIN:STANDARD
TZOFFSETFROM:+0200
TZOFFSETTO:+0100
TZNAME:CET
DTSTART:20251026T010000
END:STANDARD
BEGIN:DAYLIGHT
TZOFFSETFROM:+0100
TZOFFSETTO:+0200
TZNAME:CEST
DTSTART:20260329T010000
END:DAYLIGHT
BEGIN:STANDARD
TZOFFSETFROM:+0200
TZOFFSETTO:+0100
TZNAME:CET
DTSTART:20261025T010000
END:STANDARD
BEGIN:DAYLIGHT
TZOFFSETFROM:+0100
TZOFFSETTO:+0200
TZNAME:CEST
DTSTART:20270328T010000
END:DAYLIGHT
BEGIN:STANDARD
TZOFFSETFROM:+0200
TZOFFSETTO:+0100
TZNAME:CET
DTSTART:20271031T010000
END:STANDARD
END:VTIMEZONE
BEGIN:VEVENT
DTSTART;TZID=Europe/Paris:20260301T110000
DTEND;TZID=Europe/Paris:20260301T170000
DTSTAMP:20260420T205707
CREATED:20260125T182730Z
LAST-MODIFIED:20260203T183209Z
UID:2603-1772362800-1772384400@brandenburgerfreiheit.de
SUMMARY:7. Brandenburger Bürgerrechtskonferenz
DESCRIPTION:7. Brandenburger Bürgerrechtskonferenz\n01.03.2026\, 11-17 Uhr\nRegine-Hildebrandt-Haus\nSachsenhausener Str. 1\, 16515 Oranienburg \nAnmeldung erforderlich\, bitte per E-Mail an BrBK@web.de \nProgramm*: \nKatja Arnold und Thomas Knott (Mittelstandsinitiative Cottbus): Die Mittelstandsinitiative – Kommunalwahl\, Corona-Ausschuss. Ein kurzer Abriss über das Einmischen in die Politik. \nMittagspause \nStefan Böhme und Horst Jatzlauk (Bürgerforum Cottbus): Das Bürgerforum Cottbus: Die Wiederbelebung des öffentlichen Debattenraums. Erfolg durch Freiheit. \nDr. Götz Meidinger und Bernd Gutte (Opas und Omas für den Frieden): Nuclear Sharing – Wiedervereinigung – Frieden mit Neutralität? \nKaffeepause \nTamir Al-Abadi (Freiheitsfunken Königs Wusterhausen): „Abteilung 5 des MIK“ – Hintergründe\, Personen\, Fragen – Was ist der Verfassungsschutz Brandenburg? \n* Stand 03.02.26\, Änderungen vorbehalten
URL:https://brandenburgerfreiheit.de/event/7-brandenburger-buergerrechtskonferenz/
LOCATION:Regine-Hildebrandt-Haus\, Sachsenhausener Str. 1\, Oranienburg\, 16515
CATEGORIES:Politik,Symposium
ATTACH;FMTTYPE=image/png:https://brandenburgerfreiheit.de/wp-content/uploads/2026/01/DigitalflyerBBK07A6QuerS1_Rev02.png
END:VEVENT
BEGIN:VEVENT
DTSTART;TZID=Europe/Paris:20260306T183000
DTEND;TZID=Europe/Paris:20260306T183000
DTSTAMP:20260420T205707
CREATED:20260222T091941Z
LAST-MODIFIED:20260222T092202Z
UID:2620-1772821800-1772821800@brandenburgerfreiheit.de
SUMMARY:Kunst & Frieden -> Friedenskunst
DESCRIPTION:Kunst & Frieden -> Friedenskunst\nAuf der Bühne: \n– Theaterensemble unter der Leitung von Tina Zimmermann: „Krieg dem Kriege – Erich Weinert Remixed“\n– Musik von Karola Nitsch\, Karsten Troyke\, Daniel Weltlinger \n06.03.2026\, 18.30 Uhr\nKavalierHäuser Schloss Königs Wusterhausen\nSchloßplatz 1\, 15711 Königs Wusterhausen \nOrganisiert wird der Abend von unabhängigen Bürgern aus Königs Wusterhausen. Die Veranstalter bitten um Spenden und Verzehr.
URL:https://brandenburgerfreiheit.de/event/kunst-frieden-friedenskunst/
LOCATION:KavalierHäuser Schloss Königs Wusterhausen\, Schlossplatz 1\, Königs Wusterhausen\, 15711
ATTACH;FMTTYPE=image/jpeg:https://brandenburgerfreiheit.de/wp-content/uploads/2026/02/FlyerS1S2Kombi.jpg
END:VEVENT
BEGIN:VEVENT
DTSTART;TZID=Europe/Paris:20260325T190000
DTEND;TZID=Europe/Paris:20260325T190000
DTSTAMP:20260420T205707
CREATED:20260304T203445Z
LAST-MODIFIED:20260304T204518Z
UID:2647-1774465200-1774465200@brandenburgerfreiheit.de
SUMMARY:Aller Rechte beraubt - Vortrag von Hannes Hofbauer:
DESCRIPTION:Aller Rechte beraubt – Vortrag von Hannes Hofbauer\nSeit einigen Jahren greift die Europäische Union zu einem Instrument\, das die Fundamente des Rechtsstaats infrage stellt: Sanktionen gegen Personen und Organisationen\, verhängt ohne Gerichtsverfahren\, Anhörung oder Verteidigung. Tausende Menschen landen auf schwarzen Listen\, ihre Vermögen werden eingezogen und ihre Bewegungsfreiheit beschränkt. \nHannes Hofbauer untersucht in seinem aktuellen Buch die politischen\, juristischen und historischen Dimensionen dieser Entwicklung. Er zeigt\, wie sich die EU-Behörden seit 2014 – als Mittel im Kampf gegen Moskau – Kompetenzen angeeignet haben\, die sie zum Ankläger und Richter in Personalunion machen. Solange sich die Sanktionen gegen russische und ukrainische Staatsbürger richten\, mag deren schiere Existenz nicht bedroht sein. Seit 2022 und verstärkt seit dem 20. Mai 2025 werden jedoch auch EU-Bürger sanktioniert und damit all ihrer Rechte beraubt. Selbst die Hilfeleistung durch Angehörige oder Freunde steht unter Strafe. \n„Aller Rechte beraubt“ ist eine präzise Analyse einer stillen Machtverschiebung: von der Gewaltenteilung zum Ausnahmezustand. Die Inhalte des Buches sind Gegenstand des Vortrages in Hohen Neuendorf. \nHofbauer ist Wirtschaftshistoriker\, Journalist und aktuell auch Leiter des ProMedia Verlages in Wien. \n25.03.2026\, 19 Uhr\nEinlass ab 18.30 Uhr\, Eintritt frei\nMehrzweckhalle der Stadthalle\nAm Rathaus 1\, 16540 Hohen Neuendorf \nReservierungswünsche per E-Mail an\nveranstaltung[at]brandenburgerfreiheit.de
URL:https://brandenburgerfreiheit.de/event/aller-rechte-beraubt-vortrag-von-hannes-hofbauer/
LOCATION:Stadthalle Hohen Neuendorf (Mehrzweckraum)\, Am Rathaus 1\, Hohen Neuendorf\, 16540
CATEGORIES:Politik,Vortrag
ATTACH;FMTTYPE=image/jpeg:https://brandenburgerfreiheit.de/wp-content/uploads/2026/03/DigitalflyerHofbauerA6QuerS1.jpg
ORGANIZER;CN="Brandenburger Freiheit":MAILTO:veranstaltung@brandenburgerfreiheit.de
END:VEVENT
BEGIN:VEVENT
DTSTART;TZID=Europe/Paris:20260330T190000
DTEND;TZID=Europe/Paris:20260330T190000
DTSTAMP:20260420T205707
CREATED:20260323T180154Z
LAST-MODIFIED:20260323T180258Z
UID:2679-1774897200-1774897200@brandenburgerfreiheit.de
SUMMARY:Frauke Petry: Wie wir den Parteienstaat überwinden
DESCRIPTION:Frauke Petry \nWie wir den Parteienstaat überwinden\nWarum ich Team Freiheit bin\n⁠⁠⁠⁠⁠⁠\nVortrag und ausführliche Diskussion\, Eintritt frei \nDer Parteienstaat ist eines der größten strukturellen Probleme unserer Demokratie. Die Parteien haben sich den Staat zur Beute gemacht – und das System zementiert sich selbst. Die Parteien bestimmen: \n– Wer kandidieren darf (Listenplätze)\n– Wer in wichtige Ämter kommt (Personalhoheit)\n– Wie viel Geld sie vom Staat bekommen (Parteienfinanzierung)\n– Welche Gesetze gemacht werden \nDas ist\, als würde man Unternehmen erlauben\, ihre eigenen Steuersätze festzulegen. Kein Wunder\, dass das System immer parteifreundlicher wird. \nWie man die Macht der Parteien überwinden\, eine freiheitliche Gesellschaft wiederherstellen kann und welche Rolle Team Freiheit als innovative politische Kraft dabei spielen kann\, darüber reden wir an diesem Abend. \nAnmeldung bis Samstag\, 28. März 2026 an kontakt@werderstehtauf.de Sie erhalten dann eine Anmeldebestätigung. \n30.03.2026\, 19 Uhr\nHotel zur Insel\nAm Markt 6\, 14542 Werder (Havel) \nDie Teilnehmer\nsitzen im Veranstaltungssaal an Tischen. Verzehr ist ausdrücklich erwünscht\, speisen nur vorher. Die Küche ist regional und sehr zu empfehlen! Abendküche ab 17 Uhr geöffnet. \nVeranstalter: Werder-steht-auf (www.werderstehtauf.de)\, weitere Infos
URL:https://brandenburgerfreiheit.de/event/frauke-petry-wie-wir-den-parteienstaat-ueberwinden/
LOCATION:Hotel zur Insel\, Werder\, Am Markt 6\, Werder (Havel)\, 14542
CATEGORIES:Politik
ATTACH;FMTTYPE=image/jpeg:https://brandenburgerfreiheit.de/wp-content/uploads/2026/03/TitelbildFraukePetry.jpg
ORGANIZER;CN="Werder-Steht-Auf":MAILTO:kontakt@werderstehtauf.de
END:VEVENT
END:VCALENDAR