BEGIN:VCALENDAR
VERSION:2.0
PRODID:-//Brandenburger Freiheit - ECPv6.15.20//NONSGML v1.0//EN
CALSCALE:GREGORIAN
METHOD:PUBLISH
X-ORIGINAL-URL:https://brandenburgerfreiheit.de
X-WR-CALDESC:Veranstaltungen für Brandenburger Freiheit
REFRESH-INTERVAL;VALUE=DURATION:PT1H
X-Robots-Tag:noindex
X-PUBLISHED-TTL:PT1H
BEGIN:VTIMEZONE
TZID:Europe/Paris
BEGIN:DAYLIGHT
TZOFFSETFROM:+0100
TZOFFSETTO:+0200
TZNAME:CEST
DTSTART:20240331T010000
END:DAYLIGHT
BEGIN:STANDARD
TZOFFSETFROM:+0200
TZOFFSETTO:+0100
TZNAME:CET
DTSTART:20241027T010000
END:STANDARD
BEGIN:DAYLIGHT
TZOFFSETFROM:+0100
TZOFFSETTO:+0200
TZNAME:CEST
DTSTART:20250330T010000
END:DAYLIGHT
BEGIN:STANDARD
TZOFFSETFROM:+0200
TZOFFSETTO:+0100
TZNAME:CET
DTSTART:20251026T010000
END:STANDARD
BEGIN:DAYLIGHT
TZOFFSETFROM:+0100
TZOFFSETTO:+0200
TZNAME:CEST
DTSTART:20260329T010000
END:DAYLIGHT
BEGIN:STANDARD
TZOFFSETFROM:+0200
TZOFFSETTO:+0100
TZNAME:CET
DTSTART:20261025T010000
END:STANDARD
END:VTIMEZONE
BEGIN:VEVENT
DTSTART;TZID=Europe/Paris:20250724T190000
DTEND;TZID=Europe/Paris:20250724T190000
DTSTAMP:20260423T114344
CREATED:20250618T202802Z
LAST-MODIFIED:20250618T202802Z
UID:2287-1753383600-1753383600@brandenburgerfreiheit.de
SUMMARY:Dr. Michael Andrick: ICH BIN NICHT DABEI
DESCRIPTION:Dr. Michael Andrick: \nICH BIN NICHT DABEI\nDenkzettel für einen freien Geist\nBuchlesung und Diskussion \nHaus der Demokratie und Menschenrechte\nGreifswalder Str. 4\, 10405 Berlin \nBeginn: 19 Uhr \nEintritt frei\, um Spenden wird gebeten
URL:https://brandenburgerfreiheit.de/event/dr-michael-andrick-ich-bin-nicht-dabei/
LOCATION:Haus der Demokratie und Menschenrechte\, Greifswalder Str. 4\, Berlin\, 10405
CATEGORIES:Kultur,Lesung,Philosophie,Podiumsdiskussion
ATTACH;FMTTYPE=image/png:https://brandenburgerfreiheit.de/wp-content/uploads/2025/06/Ich-bin-nicht-dabei.png
ORGANIZER;CN="Kulturkreis Pankow":MAILTO:vorstand@kulturkreis-pankow.de
END:VEVENT
END:VCALENDAR