BEGIN:VCALENDAR
VERSION:2.0
PRODID:-//Brandenburger Freiheit - ECPv6.15.20//NONSGML v1.0//EN
CALSCALE:GREGORIAN
METHOD:PUBLISH
X-WR-CALNAME:Brandenburger Freiheit
X-ORIGINAL-URL:https://brandenburgerfreiheit.de
X-WR-CALDESC:Veranstaltungen für Brandenburger Freiheit
REFRESH-INTERVAL;VALUE=DURATION:PT1H
X-Robots-Tag:noindex
X-PUBLISHED-TTL:PT1H
BEGIN:VTIMEZONE
TZID:Europe/Paris
BEGIN:DAYLIGHT
TZOFFSETFROM:+0100
TZOFFSETTO:+0200
TZNAME:CEST
DTSTART:20240331T010000
END:DAYLIGHT
BEGIN:STANDARD
TZOFFSETFROM:+0200
TZOFFSETTO:+0100
TZNAME:CET
DTSTART:20241027T010000
END:STANDARD
BEGIN:DAYLIGHT
TZOFFSETFROM:+0100
TZOFFSETTO:+0200
TZNAME:CEST
DTSTART:20250330T010000
END:DAYLIGHT
BEGIN:STANDARD
TZOFFSETFROM:+0200
TZOFFSETTO:+0100
TZNAME:CET
DTSTART:20251026T010000
END:STANDARD
BEGIN:DAYLIGHT
TZOFFSETFROM:+0100
TZOFFSETTO:+0200
TZNAME:CEST
DTSTART:20260329T010000
END:DAYLIGHT
BEGIN:STANDARD
TZOFFSETFROM:+0200
TZOFFSETTO:+0100
TZNAME:CET
DTSTART:20261025T010000
END:STANDARD
END:VTIMEZONE
BEGIN:VEVENT
DTSTART;TZID=Europe/Paris:20250208T180000
DTEND;TZID=Europe/Paris:20250208T180000
DTSTAMP:20260424T190100
CREATED:20250108T211117Z
LAST-MODIFIED:20250108T212518Z
UID:1966-1739037600-1739037600@brandenburgerfreiheit.de
SUMMARY:Ulrike Guérot & Hauke Ritz: Lateinamerikanisierung oder Emanzipation Europas
DESCRIPTION:Ulrike Guérot & Hauke Ritz\nLateinamerikanisierung oder Emanzipation Europas\nVortrag/Lesung/Diskurs \nSamstag\, 08. Februar 2025\n18:00 Uhr bis 20:00 Uhr\, Einlass: 17:00 Uhr\nBerlin-Spandau (der genaue Ort wird rechtzeitig vor der Veranstaltung bekannt gegeben) \nTicketpreis: 20 Euro \nVeranstalter: MenschheitsFamilie – Daniela Schramm \nDurch die kritiklose Übernahme des amerikanischen Weltordnungskonzeptes und die Aufgabe eigener Traditionen und Ansprüche hat der europäische Kontinent den Entwicklungsweg hin zu Selbstständigkeit und Prosperität verpasst. Während die USA die von ihnen selbst erzeugte Energiekrise auf dem Kontinent benutzen\, um große Teile der europäischen Industrie nach Nordamerika zu verlagern\, verliert der Kontinent zugleich auch noch seine Absatzmärkte und Rohstoffquellen in Eurasien. Die Kombination aus Souveränitäts- und Wohlstandsverlust droht eine sich selbst beschleunigenden Staatszerfall in Gang zu setzen. Wie kann die Lateinamerkanisierung Europas noch verhindert werden?
URL:https://brandenburgerfreiheit.de/event/ulrike-guerot-hauke-ritz-lateinamerikanisierung-oder-emanzipation-europas/
CATEGORIES:Kultur,Lesung,Podiumsdiskussion,Politik
ATTACH;FMTTYPE=image/jpeg:https://brandenburgerfreiheit.de/wp-content/uploads/2025/01/GuerotRitz_25-02-08.jpg
ORGANIZER;CN="Menschheitsfamilie":MAILTO:info@menschheits-familie.de
END:VEVENT
END:VCALENDAR