BEGIN:VCALENDAR
VERSION:2.0
PRODID:-//Brandenburger Freiheit - ECPv6.15.20//NONSGML v1.0//EN
CALSCALE:GREGORIAN
METHOD:PUBLISH
X-ORIGINAL-URL:https://brandenburgerfreiheit.de
X-WR-CALDESC:Veranstaltungen für Brandenburger Freiheit
REFRESH-INTERVAL;VALUE=DURATION:PT1H
X-Robots-Tag:noindex
X-PUBLISHED-TTL:PT1H
BEGIN:VTIMEZONE
TZID:Europe/Paris
BEGIN:DAYLIGHT
TZOFFSETFROM:+0100
TZOFFSETTO:+0200
TZNAME:CEST
DTSTART:20240331T010000
END:DAYLIGHT
BEGIN:STANDARD
TZOFFSETFROM:+0200
TZOFFSETTO:+0100
TZNAME:CET
DTSTART:20241027T010000
END:STANDARD
BEGIN:DAYLIGHT
TZOFFSETFROM:+0100
TZOFFSETTO:+0200
TZNAME:CEST
DTSTART:20250330T010000
END:DAYLIGHT
BEGIN:STANDARD
TZOFFSETFROM:+0200
TZOFFSETTO:+0100
TZNAME:CET
DTSTART:20251026T010000
END:STANDARD
BEGIN:DAYLIGHT
TZOFFSETFROM:+0100
TZOFFSETTO:+0200
TZNAME:CEST
DTSTART:20260329T010000
END:DAYLIGHT
BEGIN:STANDARD
TZOFFSETFROM:+0200
TZOFFSETTO:+0100
TZNAME:CET
DTSTART:20261025T010000
END:STANDARD
END:VTIMEZONE
BEGIN:VEVENT
DTSTART;TZID=Europe/Paris:20250630T190000
DTEND;TZID=Europe/Paris:20250630T190000
DTSTAMP:20260423T000006
CREATED:20250618T202936Z
LAST-MODIFIED:20250618T202936Z
UID:2270-1751310000-1751310000@brandenburgerfreiheit.de
SUMMARY:Der Wille zum Krieg – Ein Vergleich zwischen Gaza und der Ukraine
DESCRIPTION:Der Wille zum Krieg – Ein Vergleich zwischen Gaza und der Ukraine\nVortrag und ausführliche Diskussion\nmit David Goeßmann \nSeit über drei Jahren führt Russland Krieg in der Ukraine\, seit über eineinhalb Jahren Israel in Gaza. \nKrieg ist kein Naturereignis. Es ist daher wichtig zu verstehen\, wo wir bei den Kriegen stehen\, wie wir dort hingelangt sind\, welche Haltungen sinnvoll sind und wie es zu Waffenstillstand und Frieden kommen könnte. Das betrifft völkerrechtliche\, moralische und geopolitische Aspekte. Es soll dabei die westliche Rechtfertigung von Gewalt gegen die Palästinenser in Gaza gegenüber der Kriegsverurteilung Russlands sowie die Tabuisierung von Diplomatie auf den Prüfstand gestellt werden. \nDavid Goeßmann war als Journalist unter anderem für den Deutschlandfunk\, n-tv und CNN Deutschland tätig. Von 2005 bis 2007 arbeitete er insbesondere für den ARD-Hörfunk und Spiegel Online. Als investigativer Reporter lieferte er Beiträge für die TV-Magazine ZDF WISO und ZAPP. Er ist Mitbegründer des unabhängigen Online-Magazins Kontext TV und war von 2022 bis 2024 Redakteur bei Telepolis. Als Buchautor analysierte er die Flüchtlingskrise und den Rechtsruck\, die Linke und Sahra Wagenknecht\, Klimapolitik und globale Gerechtigkeit. \nVeranstaltungsort ist ein Zelt in einem privaten Garten in Werder\, Hoher Weg 48\, bei Priebe – Tor ist offen\, Treppe runter\, nach rechts\, durch die Garage in den Garten. \nEintritt frei\, Spenden zur Finanzierung der Kosten erbeten\nAnmeldung bitte bis Samstag\, 28. Juni 2025\, 12 Uhr\nan kontakt@werderstehtauf.de (Sie erhalten eine Anmeldebestätigung)
URL:https://brandenburgerfreiheit.de/event/der-wille-zum-krieg-ein-vergleich-zwischen-gaza-und-der-ukraine/
LOCATION:Werder-Steht-Auf privat\, Hoher Weg 48\, Werder\, 14542
CATEGORIES:Politik,Vortrag
ATTACH;FMTTYPE=image/png:https://brandenburgerfreiheit.de/wp-content/uploads/2025/06/TB_VglGazUkraine.png
ORGANIZER;CN="Werder-Steht-Auf":MAILTO:kontakt@werderstehtauf.de
END:VEVENT
END:VCALENDAR